Workbook

Sheet Modulo
I2: AL PRESIDENTE DEL TRIBUNALE DI VARESE
I3: presidente.tribunale.varese@giustiziacert.it
A4: DOMANDA DI CONFERMA NELL’ELENCO EX ART. 179-TER DISP. ATT. C.P.C.
A5: Il sottoscritto
A6: Cognome
A7: Nome
A8: Luogo di nascita
A9: Data di nascita | J9: Cod. fisc./Partita IVA
A10: Residende in
T11: n.
A12: Citta | R12: C.A.P.
A13: Studio professionale
T14: n.
A15: Citta | R15: C.A.P.
A16: Tel. fisso | I16: Tel. mobile | Q16: fax
A17: E-mail
A18: PEC
A20: PREMESSO
A21: di ricoprire la qualità professionale di:
A22: =IF(J21="AVVOCATO",IF(RIGHT(A5)="o","Iscritto","Iscritta")&" all'Ordine degli Avvocati di:",IF(J21="COMMERCIALISTA",IF(RIGHT(A5)="o","Iscritto","Iscritta")&" all'Ordine dei Commercialisti di:",IF(J21="NOTAIO",IF(RIGHT(A5)="o","Iscritto","Iscritta")&" al Collegio Notarile di:","(Selezionare la qualità professionale)"))) -> (Selezionare la qualità professionale) | O22: al n. | S22: dal
A23: CHIEDE
A24: - | B24: l'iscrizione nell' elenco dei professionisti che provvedono alle operazioni di vendita ai sensi degli articoli 534-bis e 591-bis del codice di procedura civile, previsto e disciplinato nell'alt. 179-ter, 3° comma disp. att. c.p.c. del Tribunale di Varese
A25: - | B25: ="che ogni comunicazione inerente la domanda "&IF(RIGHT(A5)="o","gli ","le ")&"sia inviata all'indirizzo PEC sopra indicato" -> che ogni comunicazione inerente la domanda gli sia inviata all'indirizzo PEC sopra indicato
A26: A tale scopo
A27: ALLEGA
A28: 1 | B28: Certificato generale del casellario giudiziario
A29: 2 | B29: Certificato o dichiarazione sostitutiva di certificazione ai sensi degli artt. 38 e 46 DPR 445/2000 di iscrizione all’ordine professionale
A30: 3 | B30: Titoli e documenti idonei a dimostrare la specifica competenza tecnica del richiedente ai sensi del quinto comma dell’art. 179-ter, Disp. Att. C.p.c..
A32: Varese, li
P33: (Firma)
A35: ALLEGATO N. 1
A36: DICHIARAZIONE SOSTITUTIVA DI CERTIFICAZIONE
A37: AI SENSI DEGLI ARTT. 38 E 46 DPR 445/2000
A39: =IF(D6=0,"Il sottoscritto/a ------ nato/a ------ a; il------- ",(IF(RIGHT(A5)="o","Il sottoscritto ","La sottoscritta ")&D6&" "&D7&", nat"&RIGHT(A5)&" a "&F8&", il "&TEXT(F9,"gg mmmm aaaa"))) -> Il sottoscritto/a ------ nato/a ------ a; il-------
A40: =IF(D6=0,"residente a ------ ",("residente in "&D12&", "&A11&" "&D11&" n. "&U11)) -> residente a ------
A41: ="codice fiscale: "&P9 -> codice fiscale:
A42: a conoscenza di quanto prescritto dall’Art.76 DPR 445/00 sulle responsabilità penale in cui si può andare incontro in caso di dichiarazioni mendaci e sotto la propria personale responsabilità
A43: DICHIARA
A44: a) | B44: =IF(D6=0,"Di essere nato/a ------ a; il------- ",(IF(RIGHT(A5)="o","di essere nato ","di essere nata ")&F8&" il "&TEXT(F9,"gg mmmm aaaa"))) -> Di essere nato/a ------ a; il-------
A45: b) | B45: =IF(D6=0,"Di essere residente a ------ ",("di essere residente in "&D12&", "&A11&" "&D11&" n. "&U11)) -> Di essere residente a ------
A46: c) | B46: =IF(D6=0,"Di avere domicilio professionale a ----",(IF(J21="AVVOCATO",IF(RIGHT(A5)="o","di essere iscritto all'","di essere iscritta all'"),IF(J21="COMMERCIALISTA",IF(RIGHT(A5)="o","di essere iscritto all'","di essere iscritta all'"),IF(J21="NOTAIO",IF(RIGHT(A5)="o","di essere iscritto al","di essere iscritta al'"),)))&IF(J21="AVVOCATO","Ordine degli Avvocati",IF(J21="COMMERCIALISTA","Ordine dei Commercialisti",IF(J21="NOTAIO"," Collegio Notarile",)))&" di "&J22&IF(P22=0,""," al n. "&P22)&IF(T22=0,""," dal "&TEXT(T22,"gg mmmm aaaa"))&" e di avere domicilio professionale in "&D15&", "&A14&" "&D14&" "&U14)) -> Di avere domicilio professionale a ----
A50: Allega fotocopia fronte-retro documento di identità in corso di validità
A53: Varese, li
P54: (Firma)

Sheet tb
A1: cognome | B1: nome | C1: nato_a | D1: nato_il | E1: CF | F1: Res_via | G1: Res_n | H1: Res_citta | I1: Res_cap | J1: Dom_via | K1: Dom_n | L1: Dom_citta | M1: Dom_cap | N1: Studio_via | O1: Studio_n | P1: Studio_citta | Q1: Studio_cap | R1: Tl_fisso | S1: Tl_mob | T1: fax | U1: peo | V1: pec | W1: ordine | X1: Ordine_sede | Y1: Ordine_n | Z1: Ordine_dal | AA1: Req_1 | AB1: Req_2 | AC1: Req_3 | AD1: Data
A2: =Modulo!D6 -> 0 | B2: =Modulo!D7 -> 0 | C2: =Modulo!F8 -> 0 | D2: =Modulo!F9 -> 0 | E2: =Modulo!P9 -> 0 | F2: =Modulo!D11 -> 0 | G2: =Modulo!U11 -> 0 | H2: =Modulo!D12 -> 0 | I2: =Modulo!T12 -> 0 | J2: 0 | K2: 0 | L2: 0 | M2: =Modulo!T15 -> 0 | N2: =Modulo!D14 -> 0 | O2: =Modulo!U14 -> 0 | P2: =Modulo!D15 -> 0 | Q2: =Modulo!T15 -> 0 | R2: =Modulo!D16 -> 0 | S2: =Modulo!K16 -> 0 | T2: =Modulo!S16 -> 0 | U2: =Modulo!D17 -> 0 | V2: =Modulo!D18 -> 0 | W2: =Modulo!G46 -> 0 | X2: =Modulo!C47 -> 0 | Y2: =Modulo!K47 -> 0 | Z2: =Modulo!P47 -> 0 | AA2: 0 | AB2: 0 | AC2: 0 | AD2: =Modulo!D32 -> 0
